BEGIN:VCALENDAR
VERSION:2.0
PRODID:-//eventon.com NONSGML v1.0//EN
CALSCALE:GREGORIAN
METHOD:PUBLISH
BEGIN:VEVENT
UID:69e6cd2eb0d43
DTSTAMP:20260421T010446Z
DTSTART:20211028T160000Z
DTEND:20211028T180000Z
LOCATION:
SUMMARY:RDV partenaires 2021 de Chantiers jeunesse
DESCRIPTION:Chantiers jeunesse invite toutes les organisations travaillant 
 pour le développement de la jeunesse à participer à notre tout premier r
 endez-vous des partenaires et allié-es. Cet événement vise à réunir de
 s acteurs et actrices qui croient en l’engagement volontaire et au dével
 oppement de jeunes personnes engagées au Canada et à l’international. 
 [..]\nhttps://rdsrocherperce.com/events/chantierjeunesse/
URL:https://rdsrocherperce.com/events/chantierjeunesse/
END:VEVENT
END:VCALENDAR